BEGIN:VCALENDAR
VERSION:2.0
PRODID:-//Tyla Dyne - ECPv6.11.2//NONSGML v1.0//EN
CALSCALE:GREGORIAN
METHOD:PUBLISH
X-ORIGINAL-URL:https://tyladyne.com
X-WR-CALDESC:Events for Tyla Dyne
REFRESH-INTERVAL;VALUE=DURATION:PT1H
X-Robots-Tag:noindex
X-PUBLISHED-TTL:PT1H
BEGIN:VTIMEZONE
TZID:Europe/London
BEGIN:DAYLIGHT
TZOFFSETFROM:+0000
TZOFFSETTO:+0100
TZNAME:BST
DTSTART:20250330T010000
END:DAYLIGHT
BEGIN:STANDARD
TZOFFSETFROM:+0100
TZOFFSETTO:+0000
TZNAME:GMT
DTSTART:20251026T010000
END:STANDARD
END:VTIMEZONE
BEGIN:VEVENT
DTSTART;TZID=Europe/London:20250502T193000
DTEND;TZID=Europe/London:20250502T230000
DTSTAMP:20260421T095512
CREATED:20250428T103617Z
LAST-MODIFIED:20250428T103617Z
UID:204-1746214200-1746226800@tyladyne.com
SUMMARY:HOTVOX Presents Tyla Dyne At The Workshop
DESCRIPTION:HOT VOX Presents:  Tyla Dyne // + MORE\n\nThe Workshop is a little gem of a discovery underneath The Star in Shoreditch. With an underground hacienda feel\, this venue is the perfect setting for bands cutting their teeth on the scene\, or those wanting to get up close and personal with the crowd. \nNHS staff and music students (ACM\, BIMM and ICMP) receive Advance ticket price on the door. Valid NHS or student photo ID is required and entry is subject to capacity. \n 
URL:https://tyladyne.com/event/hotvox-presents-tyla-dyne-at-the-workshop/
LOCATION:The Workshop\, The star Shorditch\, 243\, Old Street\, London\, London\, EC1V 9EY
ATTACH;FMTTYPE=image/png:https://tyladyne.com/wp-content/uploads/2025/04/02.05-TYLA-DYNE-@-THE-WORKSHOP-S-G.png
END:VEVENT
END:VCALENDAR